BEGIN:VCALENDAR
VERSION:2.0
PRODID:-//Welcome Drone Pro Racing - ECPv6.15.20//NONSGML v1.0//EN
CALSCALE:GREGORIAN
METHOD:PUBLISH
X-WR-CALNAME:Welcome Drone Pro Racing
X-ORIGINAL-URL:https://droneproracing.com
X-WR-CALDESC:Events for Welcome Drone Pro Racing
REFRESH-INTERVAL;VALUE=DURATION:PT1H
X-Robots-Tag:noindex
X-PUBLISHED-TTL:PT1H
BEGIN:VTIMEZONE
TZID:UTC
BEGIN:STANDARD
TZOFFSETFROM:+0000
TZOFFSETTO:+0000
TZNAME:UTC
DTSTART:20230101T000000
END:STANDARD
END:VTIMEZONE
BEGIN:VEVENT
DTSTART;TZID=UTC:20240610T080000
DTEND;TZID=UTC:20240629T170000
DTSTAMP:20260423T172640
CREATED:20240415T234557Z
LAST-MODIFIED:20240609T233328Z
UID:35074-1718006400-1719680400@droneproracing.com
SUMMARY:Beatles Showcase – Private
DESCRIPTION:Come one\, come all\, TWO@ tuning and race preparation! Race starts at noon and will go until 4pm. 2-3 up to allow for a free channel for testing and tuning.
URL:https://droneproracing.com/event/beatles-showcase-private/
ATTACH;FMTTYPE=image/jpeg:https://droneproracing.com/wp-content/uploads/2024/04/banner3.jpg
END:VEVENT
BEGIN:VEVENT
DTSTART;TZID=UTC:20240610T080000
DTEND;TZID=UTC:20240622T170000
DTSTAMP:20260423T172640
CREATED:20240415T234353Z
LAST-MODIFIED:20240609T233347Z
UID:35070-1718006400-1719075600@droneproracing.com
SUMMARY:Icy'z Wednesday House Race (Tuning/ TWO2 Prep)
DESCRIPTION:Come one\, come all\, TWO@ tuning and race preparation! Race starts at noon and will go until 4pm. 2-3 up to allow for a free channel for testing and tuning.
URL:https://droneproracing.com/event/icyz-wednesday-house-race-tuning-two2-prep/
LOCATION:Demo\, ohio\, Usa\, columbus\, OH\, 43085\, United States
ATTACH;FMTTYPE=image/jpeg:https://droneproracing.com/wp-content/uploads/2024/04/banner1.jpg
END:VEVENT
END:VCALENDAR